BEGIN:VCALENDAR
VERSION:2.0
PRODID:-//CFDT AXIONE : S&#039;engager pour chacun agir pour tous - ECPv6.15.11//NONSGML v1.0//EN
CALSCALE:GREGORIAN
METHOD:PUBLISH
X-WR-CALNAME:CFDT AXIONE : S&#039;engager pour chacun agir pour tous
X-ORIGINAL-URL:https://cfdtaxione.fr
X-WR-CALDESC:Évènements pour CFDT AXIONE : S&#039;engager pour chacun agir pour tous
REFRESH-INTERVAL;VALUE=DURATION:PT1H
X-Robots-Tag:noindex
X-PUBLISHED-TTL:PT1H
BEGIN:VTIMEZONE
TZID:Europe/Paris
BEGIN:DAYLIGHT
TZOFFSETFROM:+0100
TZOFFSETTO:+0200
TZNAME:CEST
DTSTART:20240331T010000
END:DAYLIGHT
BEGIN:STANDARD
TZOFFSETFROM:+0200
TZOFFSETTO:+0100
TZNAME:CET
DTSTART:20241027T010000
END:STANDARD
BEGIN:DAYLIGHT
TZOFFSETFROM:+0100
TZOFFSETTO:+0200
TZNAME:CEST
DTSTART:20250330T010000
END:DAYLIGHT
BEGIN:STANDARD
TZOFFSETFROM:+0200
TZOFFSETTO:+0100
TZNAME:CET
DTSTART:20251026T010000
END:STANDARD
BEGIN:DAYLIGHT
TZOFFSETFROM:+0100
TZOFFSETTO:+0200
TZNAME:CEST
DTSTART:20260329T010000
END:DAYLIGHT
BEGIN:STANDARD
TZOFFSETFROM:+0200
TZOFFSETTO:+0100
TZNAME:CET
DTSTART:20261025T010000
END:STANDARD
END:VTIMEZONE
BEGIN:VEVENT
DTSTART;TZID=Europe/Paris:20251126T150000
DTEND;TZID=Europe/Paris:20251126T150000
DTSTAMP:20260424T180607
CREATED:20230818T170425Z
LAST-MODIFIED:20230818T171144Z
UID:2165-1764169200-1764169200@cfdtaxione.fr
SUMMARY:Permanence CFDT
DESCRIPTION:Permanence de la section CFDT Axione ouverte à tous les salariés afin de partager vos problématiques et vos remarques.\nCliquez ici pour rejoindre la réunion Teams (cliquez sur l’évènement pour afficher le lien)
URL:https://cfdtaxione.fr/evenement/permanence-cfdt-121/
LOCATION:Local CFDT Axione\, Home - 200 Avenue de Paris\, Châtillon\, 92320\, France
CATEGORIES:PERMANENCES CFDT
END:VEVENT
BEGIN:VEVENT
DTSTART;TZID=Europe/Paris:20251119T150000
DTEND;TZID=Europe/Paris:20251119T150000
DTSTAMP:20260424T180607
CREATED:20230818T170425Z
LAST-MODIFIED:20230818T171144Z
UID:2164-1763564400-1763564400@cfdtaxione.fr
SUMMARY:Permanence CFDT
DESCRIPTION:Permanence de la section CFDT Axione ouverte à tous les salariés afin de partager vos problématiques et vos remarques.\nCliquez ici pour rejoindre la réunion Teams (cliquez sur l’évènement pour afficher le lien)
URL:https://cfdtaxione.fr/evenement/permanence-cfdt-120/
LOCATION:Local CFDT Axione\, Home - 200 Avenue de Paris\, Châtillon\, 92320\, France
CATEGORIES:PERMANENCES CFDT
END:VEVENT
BEGIN:VEVENT
DTSTART;TZID=Europe/Paris:20251112T150000
DTEND;TZID=Europe/Paris:20251112T150000
DTSTAMP:20260424T180607
CREATED:20230818T170424Z
LAST-MODIFIED:20230818T171143Z
UID:2163-1762959600-1762959600@cfdtaxione.fr
SUMMARY:Permanence CFDT
DESCRIPTION:Permanence de la section CFDT Axione ouverte à tous les salariés afin de partager vos problématiques et vos remarques.\nCliquez ici pour rejoindre la réunion Teams (cliquez sur l’évènement pour afficher le lien)
URL:https://cfdtaxione.fr/evenement/permanence-cfdt-119/
LOCATION:Local CFDT Axione\, Home - 200 Avenue de Paris\, Châtillon\, 92320\, France
CATEGORIES:PERMANENCES CFDT
END:VEVENT
BEGIN:VEVENT
DTSTART;TZID=Europe/Paris:20251105T150000
DTEND;TZID=Europe/Paris:20251105T150000
DTSTAMP:20260424T180607
CREATED:20230818T170424Z
LAST-MODIFIED:20230818T171143Z
UID:2162-1762354800-1762354800@cfdtaxione.fr
SUMMARY:Permanence CFDT
DESCRIPTION:Permanence de la section CFDT Axione ouverte à tous les salariés afin de partager vos problématiques et vos remarques.\nCliquez ici pour rejoindre la réunion Teams (cliquez sur l’évènement pour afficher le lien)
URL:https://cfdtaxione.fr/evenement/permanence-cfdt-118/
LOCATION:Local CFDT Axione\, Home - 200 Avenue de Paris\, Châtillon\, 92320\, France
CATEGORIES:PERMANENCES CFDT
END:VEVENT
BEGIN:VEVENT
DTSTART;TZID=Europe/Paris:20251029T150000
DTEND;TZID=Europe/Paris:20251029T150000
DTSTAMP:20260424T180607
CREATED:20230818T170424Z
LAST-MODIFIED:20230818T171143Z
UID:2161-1761750000-1761750000@cfdtaxione.fr
SUMMARY:Permanence CFDT
DESCRIPTION:Permanence de la section CFDT Axione ouverte à tous les salariés afin de partager vos problématiques et vos remarques.\nCliquez ici pour rejoindre la réunion Teams (cliquez sur l’évènement pour afficher le lien)
URL:https://cfdtaxione.fr/evenement/permanence-cfdt-117/
LOCATION:Local CFDT Axione\, Home - 200 Avenue de Paris\, Châtillon\, 92320\, France
CATEGORIES:PERMANENCES CFDT
END:VEVENT
BEGIN:VEVENT
DTSTART;TZID=Europe/Paris:20251022T150000
DTEND;TZID=Europe/Paris:20251022T150000
DTSTAMP:20260424T180607
CREATED:20230818T170410Z
LAST-MODIFIED:20230818T171143Z
UID:2160-1761145200-1761145200@cfdtaxione.fr
SUMMARY:Permanence CFDT
DESCRIPTION:Permanence de la section CFDT Axione ouverte à tous les salariés afin de partager vos problématiques et vos remarques.\nCliquez ici pour rejoindre la réunion Teams (cliquez sur l’évènement pour afficher le lien)
URL:https://cfdtaxione.fr/evenement/permanence-cfdt-116/
LOCATION:Local CFDT Axione\, Home - 200 Avenue de Paris\, Châtillon\, 92320\, France
CATEGORIES:PERMANENCES CFDT
END:VEVENT
BEGIN:VEVENT
DTSTART;TZID=Europe/Paris:20251015T150000
DTEND;TZID=Europe/Paris:20251015T150000
DTSTAMP:20260424T180607
CREATED:20230818T170410Z
LAST-MODIFIED:20230818T171143Z
UID:2159-1760540400-1760540400@cfdtaxione.fr
SUMMARY:Permanence CFDT
DESCRIPTION:Permanence de la section CFDT Axione ouverte à tous les salariés afin de partager vos problématiques et vos remarques.\nCliquez ici pour rejoindre la réunion Teams (cliquez sur l’évènement pour afficher le lien)
URL:https://cfdtaxione.fr/evenement/permanence-cfdt-115/
LOCATION:Local CFDT Axione\, Home - 200 Avenue de Paris\, Châtillon\, 92320\, France
CATEGORIES:PERMANENCES CFDT
END:VEVENT
BEGIN:VEVENT
DTSTART;TZID=Europe/Paris:20251008T150000
DTEND;TZID=Europe/Paris:20251008T150000
DTSTAMP:20260424T180607
CREATED:20230818T170409Z
LAST-MODIFIED:20230818T171143Z
UID:2158-1759935600-1759935600@cfdtaxione.fr
SUMMARY:Permanence CFDT
DESCRIPTION:Permanence de la section CFDT Axione ouverte à tous les salariés afin de partager vos problématiques et vos remarques.\nCliquez ici pour rejoindre la réunion Teams (cliquez sur l’évènement pour afficher le lien)
URL:https://cfdtaxione.fr/evenement/permanence-cfdt-114/
LOCATION:Local CFDT Axione\, Home - 200 Avenue de Paris\, Châtillon\, 92320\, France
CATEGORIES:PERMANENCES CFDT
END:VEVENT
BEGIN:VEVENT
DTSTART;TZID=Europe/Paris:20251001T150000
DTEND;TZID=Europe/Paris:20251001T150000
DTSTAMP:20260424T180607
CREATED:20230818T170409Z
LAST-MODIFIED:20230818T171143Z
UID:2157-1759330800-1759330800@cfdtaxione.fr
SUMMARY:Permanence CFDT
DESCRIPTION:Permanence de la section CFDT Axione ouverte à tous les salariés afin de partager vos problématiques et vos remarques.\nCliquez ici pour rejoindre la réunion Teams (cliquez sur l’évènement pour afficher le lien)
URL:https://cfdtaxione.fr/evenement/permanence-cfdt-113/
LOCATION:Local CFDT Axione\, Home - 200 Avenue de Paris\, Châtillon\, 92320\, France
CATEGORIES:PERMANENCES CFDT
END:VEVENT
BEGIN:VEVENT
DTSTART;TZID=Europe/Paris:20250924T150000
DTEND;TZID=Europe/Paris:20250924T150000
DTSTAMP:20260424T180607
CREATED:20230818T170409Z
LAST-MODIFIED:20230818T171143Z
UID:2156-1758726000-1758726000@cfdtaxione.fr
SUMMARY:Permanence CFDT
DESCRIPTION:Permanence de la section CFDT Axione ouverte à tous les salariés afin de partager vos problématiques et vos remarques.\nCliquez ici pour rejoindre la réunion Teams (cliquez sur l’évènement pour afficher le lien)
URL:https://cfdtaxione.fr/evenement/permanence-cfdt-112/
LOCATION:Local CFDT Axione\, Home - 200 Avenue de Paris\, Châtillon\, 92320\, France
CATEGORIES:PERMANENCES CFDT
END:VEVENT
BEGIN:VEVENT
DTSTART;TZID=Europe/Paris:20250917T150000
DTEND;TZID=Europe/Paris:20250917T150000
DTSTAMP:20260424T180607
CREATED:20230818T170348Z
LAST-MODIFIED:20230818T171143Z
UID:2154-1758121200-1758121200@cfdtaxione.fr
SUMMARY:Permanence CFDT
DESCRIPTION:Permanence de la section CFDT Axione ouverte à tous les salariés afin de partager vos problématiques et vos remarques.\nCliquez ici pour rejoindre la réunion Teams (cliquez sur l’évènement pour afficher le lien)
URL:https://cfdtaxione.fr/evenement/permanence-cfdt-111/
LOCATION:Local CFDT Axione\, Home - 200 Avenue de Paris\, Châtillon\, 92320\, France
CATEGORIES:PERMANENCES CFDT
END:VEVENT
BEGIN:VEVENT
DTSTART;TZID=Europe/Paris:20250910T150000
DTEND;TZID=Europe/Paris:20250910T150000
DTSTAMP:20260424T180607
CREATED:20230818T170348Z
LAST-MODIFIED:20230818T171143Z
UID:2153-1757516400-1757516400@cfdtaxione.fr
SUMMARY:Permanence CFDT
DESCRIPTION:Permanence de la section CFDT Axione ouverte à tous les salariés afin de partager vos problématiques et vos remarques.\nCliquez ici pour rejoindre la réunion Teams (cliquez sur l’évènement pour afficher le lien)
URL:https://cfdtaxione.fr/evenement/permanence-cfdt-110/
LOCATION:Local CFDT Axione\, Home - 200 Avenue de Paris\, Châtillon\, 92320\, France
CATEGORIES:PERMANENCES CFDT
END:VEVENT
BEGIN:VEVENT
DTSTART;TZID=Europe/Paris:20250903T150000
DTEND;TZID=Europe/Paris:20250903T150000
DTSTAMP:20260424T180607
CREATED:20230818T170348Z
LAST-MODIFIED:20230818T171143Z
UID:2152-1756911600-1756911600@cfdtaxione.fr
SUMMARY:Permanence CFDT
DESCRIPTION:Permanence de la section CFDT Axione ouverte à tous les salariés afin de partager vos problématiques et vos remarques.\nCliquez ici pour rejoindre la réunion Teams (cliquez sur l’évènement pour afficher le lien)
URL:https://cfdtaxione.fr/evenement/permanence-cfdt-109/
LOCATION:Local CFDT Axione\, Home - 200 Avenue de Paris\, Châtillon\, 92320\, France
CATEGORIES:PERMANENCES CFDT
END:VEVENT
BEGIN:VEVENT
DTSTART;TZID=Europe/Paris:20250827T150000
DTEND;TZID=Europe/Paris:20250827T150000
DTSTAMP:20260424T180607
CREATED:20230818T170347Z
LAST-MODIFIED:20230818T171143Z
UID:2151-1756306800-1756306800@cfdtaxione.fr
SUMMARY:Permanence CFDT
DESCRIPTION:Permanence de la section CFDT Axione ouverte à tous les salariés afin de partager vos problématiques et vos remarques.\nCliquez ici pour rejoindre la réunion Teams (cliquez sur l’évènement pour afficher le lien)
URL:https://cfdtaxione.fr/evenement/permanence-cfdt-108/
LOCATION:Local CFDT Axione\, Home - 200 Avenue de Paris\, Châtillon\, 92320\, France
CATEGORIES:PERMANENCES CFDT
END:VEVENT
BEGIN:VEVENT
DTSTART;TZID=Europe/Paris:20250820T150000
DTEND;TZID=Europe/Paris:20250820T150000
DTSTAMP:20260424T180607
CREATED:20230818T170347Z
LAST-MODIFIED:20230818T171143Z
UID:2150-1755702000-1755702000@cfdtaxione.fr
SUMMARY:Permanence CFDT
DESCRIPTION:Permanence de la section CFDT Axione ouverte à tous les salariés afin de partager vos problématiques et vos remarques.\nCliquez ici pour rejoindre la réunion Teams (cliquez sur l’évènement pour afficher le lien)
URL:https://cfdtaxione.fr/evenement/permanence-cfdt-107/
LOCATION:Local CFDT Axione\, Home - 200 Avenue de Paris\, Châtillon\, 92320\, France
CATEGORIES:PERMANENCES CFDT
END:VEVENT
BEGIN:VEVENT
DTSTART;TZID=Europe/Paris:20250813T150000
DTEND;TZID=Europe/Paris:20250813T150000
DTSTAMP:20260424T180607
CREATED:20230818T170341Z
LAST-MODIFIED:20230818T171143Z
UID:2149-1755097200-1755097200@cfdtaxione.fr
SUMMARY:Permanence CFDT
DESCRIPTION:Permanence de la section CFDT Axione ouverte à tous les salariés afin de partager vos problématiques et vos remarques.\nCliquez ici pour rejoindre la réunion Teams (cliquez sur l’évènement pour afficher le lien)
URL:https://cfdtaxione.fr/evenement/permanence-cfdt-106/
LOCATION:Local CFDT Axione\, Home - 200 Avenue de Paris\, Châtillon\, 92320\, France
CATEGORIES:PERMANENCES CFDT
END:VEVENT
BEGIN:VEVENT
DTSTART;TZID=Europe/Paris:20250806T150000
DTEND;TZID=Europe/Paris:20250806T150000
DTSTAMP:20260424T180607
CREATED:20230818T170341Z
LAST-MODIFIED:20230818T171143Z
UID:2148-1754492400-1754492400@cfdtaxione.fr
SUMMARY:Permanence CFDT
DESCRIPTION:Permanence de la section CFDT Axione ouverte à tous les salariés afin de partager vos problématiques et vos remarques.\nCliquez ici pour rejoindre la réunion Teams (cliquez sur l’évènement pour afficher le lien)
URL:https://cfdtaxione.fr/evenement/permanence-cfdt-105/
LOCATION:Local CFDT Axione\, Home - 200 Avenue de Paris\, Châtillon\, 92320\, France
CATEGORIES:PERMANENCES CFDT
END:VEVENT
BEGIN:VEVENT
DTSTART;TZID=Europe/Paris:20250730T150000
DTEND;TZID=Europe/Paris:20250730T150000
DTSTAMP:20260424T180607
CREATED:20230818T170340Z
LAST-MODIFIED:20230818T171143Z
UID:2147-1753887600-1753887600@cfdtaxione.fr
SUMMARY:Permanence CFDT
DESCRIPTION:Permanence de la section CFDT Axione ouverte à tous les salariés afin de partager vos problématiques et vos remarques.\nCliquez ici pour rejoindre la réunion Teams (cliquez sur l’évènement pour afficher le lien)
URL:https://cfdtaxione.fr/evenement/permanence-cfdt-104/
LOCATION:Local CFDT Axione\, Home - 200 Avenue de Paris\, Châtillon\, 92320\, France
CATEGORIES:PERMANENCES CFDT
END:VEVENT
BEGIN:VEVENT
DTSTART;TZID=Europe/Paris:20250723T150000
DTEND;TZID=Europe/Paris:20250723T150000
DTSTAMP:20260424T180607
CREATED:20230818T170340Z
LAST-MODIFIED:20230818T171142Z
UID:2146-1753282800-1753282800@cfdtaxione.fr
SUMMARY:Permanence CFDT
DESCRIPTION:Permanence de la section CFDT Axione ouverte à tous les salariés afin de partager vos problématiques et vos remarques.\nCliquez ici pour rejoindre la réunion Teams (cliquez sur l’évènement pour afficher le lien)
URL:https://cfdtaxione.fr/evenement/permanence-cfdt-103/
LOCATION:Local CFDT Axione\, Home - 200 Avenue de Paris\, Châtillon\, 92320\, France
CATEGORIES:PERMANENCES CFDT
END:VEVENT
BEGIN:VEVENT
DTSTART;TZID=Europe/Paris:20250716T150000
DTEND;TZID=Europe/Paris:20250716T150000
DTSTAMP:20260424T180607
CREATED:20230818T170340Z
LAST-MODIFIED:20230818T171142Z
UID:2145-1752678000-1752678000@cfdtaxione.fr
SUMMARY:Permanence CFDT
DESCRIPTION:Permanence de la section CFDT Axione ouverte à tous les salariés afin de partager vos problématiques et vos remarques.\nCliquez ici pour rejoindre la réunion Teams (cliquez sur l’évènement pour afficher le lien)
URL:https://cfdtaxione.fr/evenement/permanence-cfdt-102/
LOCATION:Local CFDT Axione\, Home - 200 Avenue de Paris\, Châtillon\, 92320\, France
CATEGORIES:PERMANENCES CFDT
END:VEVENT
BEGIN:VEVENT
DTSTART;TZID=Europe/Paris:20250709T150000
DTEND;TZID=Europe/Paris:20250709T150000
DTSTAMP:20260424T180607
CREATED:20230818T170252Z
LAST-MODIFIED:20230818T171142Z
UID:2144-1752073200-1752073200@cfdtaxione.fr
SUMMARY:Permanence CFDT
DESCRIPTION:Permanence de la section CFDT Axione ouverte à tous les salariés afin de partager vos problématiques et vos remarques.\nCliquez ici pour rejoindre la réunion Teams (cliquez sur l’évènement pour afficher le lien)
URL:https://cfdtaxione.fr/evenement/permanence-cfdt-101/
LOCATION:Local CFDT Axione\, Home - 200 Avenue de Paris\, Châtillon\, 92320\, France
CATEGORIES:PERMANENCES CFDT
END:VEVENT
BEGIN:VEVENT
DTSTART;TZID=Europe/Paris:20250702T150000
DTEND;TZID=Europe/Paris:20250702T150000
DTSTAMP:20260424T180607
CREATED:20230818T170252Z
LAST-MODIFIED:20230818T171142Z
UID:2143-1751468400-1751468400@cfdtaxione.fr
SUMMARY:Permanence CFDT
DESCRIPTION:Permanence de la section CFDT Axione ouverte à tous les salariés afin de partager vos problématiques et vos remarques.\nCliquez ici pour rejoindre la réunion Teams (cliquez sur l’évènement pour afficher le lien)
URL:https://cfdtaxione.fr/evenement/permanence-cfdt-100/
LOCATION:Local CFDT Axione\, Home - 200 Avenue de Paris\, Châtillon\, 92320\, France
CATEGORIES:PERMANENCES CFDT
END:VEVENT
BEGIN:VEVENT
DTSTART;TZID=Europe/Paris:20250625T150000
DTEND;TZID=Europe/Paris:20250625T150000
DTSTAMP:20260424T180607
CREATED:20230818T170252Z
LAST-MODIFIED:20230818T171142Z
UID:2142-1750863600-1750863600@cfdtaxione.fr
SUMMARY:Permanence CFDT
DESCRIPTION:Permanence de la section CFDT Axione ouverte à tous les salariés afin de partager vos problématiques et vos remarques.\nCliquez ici pour rejoindre la réunion Teams (cliquez sur l’évènement pour afficher le lien)
URL:https://cfdtaxione.fr/evenement/permanence-cfdt-99/
LOCATION:Local CFDT Axione\, Home - 200 Avenue de Paris\, Châtillon\, 92320\, France
CATEGORIES:PERMANENCES CFDT
END:VEVENT
BEGIN:VEVENT
DTSTART;TZID=Europe/Paris:20250618T150000
DTEND;TZID=Europe/Paris:20250618T150000
DTSTAMP:20260424T180607
CREATED:20230818T170251Z
LAST-MODIFIED:20230818T171142Z
UID:2141-1750258800-1750258800@cfdtaxione.fr
SUMMARY:Permanence CFDT
DESCRIPTION:Permanence de la section CFDT Axione ouverte à tous les salariés afin de partager vos problématiques et vos remarques.\nCliquez ici pour rejoindre la réunion Teams (cliquez sur l’évènement pour afficher le lien)
URL:https://cfdtaxione.fr/evenement/permanence-cfdt-98/
LOCATION:Local CFDT Axione\, Home - 200 Avenue de Paris\, Châtillon\, 92320\, France
CATEGORIES:PERMANENCES CFDT
END:VEVENT
BEGIN:VEVENT
DTSTART;TZID=Europe/Paris:20250611T150000
DTEND;TZID=Europe/Paris:20250611T150000
DTSTAMP:20260424T180607
CREATED:20230818T170251Z
LAST-MODIFIED:20230818T171142Z
UID:2140-1749654000-1749654000@cfdtaxione.fr
SUMMARY:Permanence CFDT
DESCRIPTION:Permanence de la section CFDT Axione ouverte à tous les salariés afin de partager vos problématiques et vos remarques.\nCliquez ici pour rejoindre la réunion Teams (cliquez sur l’évènement pour afficher le lien)
URL:https://cfdtaxione.fr/evenement/permanence-cfdt-97/
LOCATION:Local CFDT Axione\, Home - 200 Avenue de Paris\, Châtillon\, 92320\, France
CATEGORIES:PERMANENCES CFDT
END:VEVENT
BEGIN:VEVENT
DTSTART;TZID=Europe/Paris:20250604T150000
DTEND;TZID=Europe/Paris:20250604T150000
DTSTAMP:20260424T180607
CREATED:20230818T170230Z
LAST-MODIFIED:20230818T171142Z
UID:2138-1749049200-1749049200@cfdtaxione.fr
SUMMARY:Permanence CFDT
DESCRIPTION:Permanence de la section CFDT Axione ouverte à tous les salariés afin de partager vos problématiques et vos remarques.\nCliquez ici pour rejoindre la réunion Teams (cliquez sur l’évènement pour afficher le lien)
URL:https://cfdtaxione.fr/evenement/permanence-cfdt-96/
LOCATION:Local CFDT Axione\, Home - 200 Avenue de Paris\, Châtillon\, 92320\, France
CATEGORIES:PERMANENCES CFDT
END:VEVENT
BEGIN:VEVENT
DTSTART;TZID=Europe/Paris:20250528T150000
DTEND;TZID=Europe/Paris:20250528T150000
DTSTAMP:20260424T180607
CREATED:20230818T170230Z
LAST-MODIFIED:20230818T171142Z
UID:2137-1748444400-1748444400@cfdtaxione.fr
SUMMARY:Permanence CFDT
DESCRIPTION:Permanence de la section CFDT Axione ouverte à tous les salariés afin de partager vos problématiques et vos remarques.\nCliquez ici pour rejoindre la réunion Teams (cliquez sur l’évènement pour afficher le lien)
URL:https://cfdtaxione.fr/evenement/permanence-cfdt-95/
LOCATION:Local CFDT Axione\, Home - 200 Avenue de Paris\, Châtillon\, 92320\, France
CATEGORIES:PERMANENCES CFDT
END:VEVENT
BEGIN:VEVENT
DTSTART;TZID=Europe/Paris:20250521T150000
DTEND;TZID=Europe/Paris:20250521T150000
DTSTAMP:20260424T180607
CREATED:20230818T170230Z
LAST-MODIFIED:20230818T171142Z
UID:2136-1747839600-1747839600@cfdtaxione.fr
SUMMARY:Permanence CFDT
DESCRIPTION:Permanence de la section CFDT Axione ouverte à tous les salariés afin de partager vos problématiques et vos remarques.\nCliquez ici pour rejoindre la réunion Teams (cliquez sur l’évènement pour afficher le lien)
URL:https://cfdtaxione.fr/evenement/permanence-cfdt-94/
LOCATION:Local CFDT Axione\, Home - 200 Avenue de Paris\, Châtillon\, 92320\, France
CATEGORIES:PERMANENCES CFDT
END:VEVENT
BEGIN:VEVENT
DTSTART;TZID=Europe/Paris:20250514T150000
DTEND;TZID=Europe/Paris:20250514T150000
DTSTAMP:20260424T180607
CREATED:20230818T170229Z
LAST-MODIFIED:20230818T171142Z
UID:2135-1747234800-1747234800@cfdtaxione.fr
SUMMARY:Permanence CFDT
DESCRIPTION:Permanence de la section CFDT Axione ouverte à tous les salariés afin de partager vos problématiques et vos remarques.\nCliquez ici pour rejoindre la réunion Teams (cliquez sur l’évènement pour afficher le lien)
URL:https://cfdtaxione.fr/evenement/permanence-cfdt-93/
LOCATION:Local CFDT Axione\, Home - 200 Avenue de Paris\, Châtillon\, 92320\, France
CATEGORIES:PERMANENCES CFDT
END:VEVENT
BEGIN:VEVENT
DTSTART;TZID=Europe/Paris:20250507T150000
DTEND;TZID=Europe/Paris:20250507T150000
DTSTAMP:20260424T180607
CREATED:20230818T170229Z
LAST-MODIFIED:20230818T171142Z
UID:2134-1746630000-1746630000@cfdtaxione.fr
SUMMARY:Permanence CFDT
DESCRIPTION:Permanence de la section CFDT Axione ouverte à tous les salariés afin de partager vos problématiques et vos remarques.\nCliquez ici pour rejoindre la réunion Teams (cliquez sur l’évènement pour afficher le lien)
URL:https://cfdtaxione.fr/evenement/permanence-cfdt-92/
LOCATION:Local CFDT Axione\, Home - 200 Avenue de Paris\, Châtillon\, 92320\, France
CATEGORIES:PERMANENCES CFDT
END:VEVENT
END:VCALENDAR